BEGIN:VCALENDAR
VERSION:2.0
PRODID:-//hacksw/handcal//NONSGML v1.0//EN
CALSCALE:GREGORIAN
BEGIN:VEVENT
DTEND:20191112T163000Z
UID:69e74b7a1d0c8
DTSTAMP:20260421T120338Z
LOCATION:Van der Valk hotel UtrechtWinthontlaan 4\, 3526 KV Utrecht\, Nederland
DESCRIPTION:Hieronder vind je een overzicht van de vergaderstukken. Leden kunnen deze stukken downloaden uit de map "Bijlage(n)" na te zijn ingelogd:

Agenda
Verslag ALV 18 april 2019
(Her) verkiezing bestuur
Begroting 2020
Aftreden en toetreden nieuwe leden F.C.

Na afloop van de ledenvergadering is er een themabijeenkomst Informatiebeveiliging in het MKB. Voor deze bijeekomst moeten leden zich apart aanmelden.
URL;VALUE=URI:
SUMMARY:Algemene Leden Vergadering
DTSTART:20191112T150000Z
END:VEVENT
END:VCALENDAR