BEGIN:VCALENDAR
VERSION:2.0
PRODID:-//hacksw/handcal//NONSGML v1.0//EN
CALSCALE:GREGORIAN
BEGIN:VEVENT
DTEND:20241121T180000Z
UID:69e5117061f48
DTSTAMP:20260419T193128Z
LOCATION:Van der Valk hotel\, Winthontlaan 4\, 3526 KV UtrechtWinthontlaan 4\, 3526 KV Utrecht\, Nederland
DESCRIPTION:
URL;VALUE=URI:
SUMMARY:Algemene Ledenvergadering
DTSTART:20241121T170000Z
END:VEVENT
END:VCALENDAR