BEGIN:VCALENDAR
VERSION:2.0
PRODID:-//hacksw/handcal//NONSGML v1.0//EN
CALSCALE:GREGORIAN
BEGIN:VEVENT
DTEND:20230411T153000Z
UID:69e5cc6be7023
DTSTAMP:20260420T084915Z
LOCATION:Van der Valk hotel\, Winthontlaan 4\, 3526 KV Utrecht
DESCRIPTION:De vergaderstukken kunt u na inloggen vinden in het tabje 'materialen' bovenaan dit scherm.

URL;VALUE=URI:
SUMMARY:Algemene Ledenvergadering
DTSTART:20230411T140000Z
END:VEVENT
END:VCALENDAR