BEGIN:VCALENDAR
VERSION:2.0
PRODID:-//hacksw/handcal//NONSGML v1.0//EN
CALSCALE:GREGORIAN
BEGIN:VEVENT
DTEND:20231109T180000Z
UID:69e4d796f15dc
DTSTAMP:20260419T152438Z
LOCATION:Van der Valk UtrechtWinthontlaan 4\, 3526 KV Utrecht\, Netherlands
DESCRIPTION:Op donderdag 9 november van 18.00 tot 19.00 uur is weer een Algemene Ledenvergadering gepland. Dit keer staan daar een paar bijzondere punten op de agenda.
Meer informatie en de stukken voor de Algemene ledenvergadering van 9 november 2023 vindt u door hier te klikken.
Onder het tabje 'materialen' vindt u de vergaderstukken.

URL;VALUE=URI:https://evenementen.pvib.nl/nl/bijeenkomsten/detail/97/algemene-ledenvergadering
SUMMARY:Algemene Ledenvergadering
DTSTART:20231109T170000Z
END:VEVENT
END:VCALENDAR