BEGIN:VCALENDAR
VERSION:2.0
PRODID:-//hacksw/handcal//NONSGML v1.0//EN
CALSCALE:GREGORIAN
BEGIN:VEVENT
DTEND:20190613T151500Z
UID:69e945386fe25
DTSTAMP:20260423T000128Z
LOCATION:NBC CongrescentrumBlokhoeve 1\, 3438 LC Nieuwegein\, Nederland
DESCRIPTION:Wat zijn de ‘critical systems’ binnen je organisatie? Naast de producten en diensten die een bedrijf uniek maken is ieder bedrijf tegenwoordig volledig afhankelijk van IT (Information Technology) en/of OT (Operational Technology). Er zijn zelfs bedrijven die binnen een halve dag failliet zijn als een dergelijk proces of systeem zou uitvallen. Op die manier heeft iedere organisatie wel een aantal ‘critical systems’ (kroonjuwelen) die beschermd moeten worden.

Win 1 van de 3 vrijkaarten met de beste vraag voor een van de sprekers. 
Hoe? Bekijk programma\, reply deze post t/m 16 mei en geef aan welke vraag voor welke spreker. Bekendmaking winnaars 20 mei met persoonlijk bericht. Niet gewonnen? 10% korting PvIB leden: PvIB@BHS19: 
https://eu.eventscloud.com/ereg/newreg.php?eventid=200185257&amp\;
URL;VALUE=URI:
SUMMARY:Black Hat Session 2019
DTSTART:20190613T063000Z
END:VEVENT
END:VCALENDAR