BEGIN:VCALENDAR
VERSION:2.0
PRODID:-//hacksw/handcal//NONSGML v1.0//EN
CALSCALE:GREGORIAN
BEGIN:VEVENT
DTEND:20190704T190000Z
UID:69ec35445f17b
DTSTAMP:20260425T053012Z
LOCATION:Sportcentrum NicolaasLabouchèrelaan 5\, 2283 EG Rijswijk\, Nederland
DESCRIPTION:Voor veel Professionals in de informatiebeveiliging is balans erg belangrijk. Mens sana in corpore sano: een gezonde geest in een gezond lichaam. Daarom organiseert de Young Professionals commissie van het PvIB een sportieve activiteit in de vorm van een boksclinic.
URL;VALUE=URI:
SUMMARY:Boksclinic
DTSTART:20190704T160000Z
END:VEVENT
END:VCALENDAR