BEGIN:VCALENDAR
VERSION:2.0
PRODID:-//hacksw/handcal//NONSGML v1.0//EN
CALSCALE:GREGORIAN
BEGIN:VEVENT
DTEND:20171115T193000Z
UID:69e6a1d811738
DTSTAMP:20260420T235952Z
LOCATION:Van der Valk Hotel Den Haag – NootdorpGildeweg 1\, 2632 BD Nootdorp\, Nederland
DESCRIPTION:Tweejaarlijks ISACA event om meerwaarde toe te voegen aan het vak\, vakinhoud\, kennisdeling\, netwerken en kennis maken met de inhoud van de diverse ISACA certificeringstrajecten.
URL;VALUE=URI:
SUMMARY:C**** in a Day
DTSTART:20171115T080000Z
END:VEVENT
END:VCALENDAR