BEGIN:VCALENDAR
VERSION:2.0
PRODID:-//hacksw/handcal//NONSGML v1.0//EN
CALSCALE:GREGORIAN
BEGIN:VEVENT
DTEND:20180404T164500Z
UID:69e68c09dc62e
DTSTAMP:20260420T222649Z
LOCATION:BOVAG huisKosterijland 15\, 3981 AJ Bunnik\, Nederland
DESCRIPTION:VOOR DEZE BIJEENKOMST ZIJN GEEN PLAATSEN MEER BESCHIKBAAR 

In mei 2018 wordt de Algemene Verordening Gegevensbescherming (AVG) van kracht in de gehele Europese Unie. Inhoudelijk is er geen hele grote verandering ten opzichte van de Wet Bescherming Persoonsgegevens.
URL;VALUE=URI:
SUMMARY:CISO-21: in discussie over de AVG
DTSTART:20180404T140000Z
END:VEVENT
END:VCALENDAR