BEGIN:VCALENDAR
VERSION:2.0
PRODID:-//hacksw/handcal//NONSGML v1.0//EN
CALSCALE:GREGORIAN
BEGIN:VEVENT
DTEND:20190605T163000Z
UID:69e4d65ad9e87
DTSTAMP:20260419T151922Z
LOCATION:De MolenaarskamerMolenweg 32\, 3764 TA Soest\, Nederland
DESCRIPTION:Agile transformaties beginnen vaak klein met een paar pilots\, terwijl beveiligings- en ITIL-processen zoals verandermanagement en incidentbeheer 'in de huidige staat' worden gehouden. Meestal is het geen tastbaar probleem als beveiligings-\, service- en beheerprocessen niet onder de eerste pilots vallen. Echter\, zodra teams vooruitgang boeken in hun transformatie en snelheid winnen\, hebben deze afdelingen de neiging om een belemmering te worden.

DEZE BIJEENKOMST IS VOLGEBOEKT. INSCHRIJVEN IS NIET MEER MOGELIJK. 
Het is mogelijk uzelf op een wachtlijst te plaatsen. Stuur dan een mail aan activiteiten@pvib.nl
URL;VALUE=URI:
SUMMARY:CISO-28: Agile transformation challenges Security
DTSTART:20190605T140000Z
END:VEVENT
END:VCALENDAR