BEGIN:VCALENDAR
VERSION:2.0
PRODID:-//hacksw/handcal//NONSGML v1.0//EN
CALSCALE:GREGORIAN
BEGIN:VEVENT
DTEND:20210602T153000Z
UID:69ecac8a0e5ce
DTSTAMP:20260425T135906Z
LOCATION:Online
DESCRIPTION:

Secure by Design

Door de agile transformatie wordt er steeds vaker volgens het DevOps concept gewerkt en worden verantwoordelijkheden (ook voor security en kwaliteit) zo laag mogelijk in de organisatie neergelegd. Er wordt daarbij gesteld dat door een betere samenwerking tussen security en devops teams (DevSecOps) de kwaliteit en security exponentieel toeneemt. De ervaring leert dat dit nog lang niet altijd het geval is. Hoe komt dat? Hoe kunnen we Secure by Design wel laten werken? Welke onderbouwingen zijn er voor het feit dat DevSecOps exponentieel veiliger zou zijn?

URL;VALUE=URI:
SUMMARY:CISO-39: Secure by Design
DTSTART:20210602T140000Z
END:VEVENT
END:VCALENDAR