BEGIN:VCALENDAR
VERSION:2.0
PRODID:-//hacksw/handcal//NONSGML v1.0//EN
CALSCALE:GREGORIAN
BEGIN:VEVENT
DTEND:20211103T163000Z
UID:69e6787ea2b00
DTSTAMP:20260420T210326Z
LOCATION:Jaarbeurs UtrechtJaarbeursplein\, 3521 AL Utrecht\, Netherlands
DESCRIPTION:

Zelfrijdende auto’s\, Voice assistants en deep fakes: artificiële intelligentie verandert de wereld op goede\, maar ook op slechte manieren. Ook het veld van informatiebeveiliging ondergaat al jaren grote innovaties door AI. De wapenwetloop die sowieso al gaande was tussen aanvaller en verdediger neemt hierdoor een nieuwe wending.

Jij\, als onderdeel van de informatiebeveiliging community\, zal in deze CISO meegenomen worden in de theorie achter AI. Wat is er nou nodig om een AI systeem te ontwikkelen? Waarom is zo’n systeem nou beter dan conventionele oplossingen?  Waar kan AI worden ingezet\, maar ook: waar niet. Daarnaast bespreken we actuele toepassingen van kunstmatige intelligentie in de praktijk. Zowel offensief als defensief wordt AI ingezet\, onderwerpen als face morphing en endpoint detectie zullen aan bod komen!

Live ontmoeten met Coronatoegangsbewijs
Voor fysieke toegang tot de bijeenkomst is het conform de huidige regelgeving verplicht om een Coronatoegangsbewijs in de vorm van een vaccinatiebewijs\, een herstelbewijs of een recente coronatest (met een negatieve testuitslag van minder dan 24 uur voor de activiteit) te overleggen. Dit kan middels een geldig Coronatoegangsbewijs (in de CoronaCheck-app of geprint via https://coronacheck.nl). Toegang is alleen mogelijk met een geldige Corona qr-code. De anderhalvemetermaatregel hoeft dan niet meer in acht te worden genomen.

URL;VALUE=URI:
SUMMARY:CISO-41: De invloed van artificial intelligence op informatiebeveiliging
DTSTART:20211103T150000Z
END:VEVENT
END:VCALENDAR