BEGIN:VCALENDAR
VERSION:2.0
PRODID:-//hacksw/handcal//NONSGML v1.0//EN
CALSCALE:GREGORIAN
BEGIN:VEVENT
DTEND:20171004T173000Z
UID:69e63d97c61ed
DTSTAMP:20260420T165207Z
LOCATION:DomstadKoningsbergerstraat 9\, 3531 AJ Utrecht\, Netherlands
DESCRIPTION:
URL;VALUE=URI:
SUMMARY:Commissieraadsvergadering
DTSTART:20171004T153000Z
END:VEVENT
END:VCALENDAR