BEGIN:VCALENDAR
VERSION:2.0
PRODID:-//hacksw/handcal//NONSGML v1.0//EN
CALSCALE:GREGORIAN
BEGIN:VEVENT
DTEND:20180417T193000Z
UID:69ed2876828d1
DTSTAMP:20260425T224750Z
LOCATION:Van der Valk hotel UtrechtWinthontlaan 4\, 3526 KV Utrecht\, Nederland
DESCRIPTION:De huidige opmars van cryptocurrency heeft het woord "crypto" voor velen een andere betekenis gegeven. In de kern is het net als "cyber" een voorzetsel dat op geheimen slaat. Op deze avond willen we jullie op een luchtige manier meenemen in de wereld van de cryptografie. Dat betekent niet dat het een hoog-over verhaal wordt! We hebben drie experts bereid gevonden hun kennis en ervaringen met ons te delen.

Inschrijven kan tot en met 16 april.





URL;VALUE=URI:
SUMMARY:Crypotaal: Wrhq\, qx hq vwudnv lq fubswr
DTSTART:20180417T160000Z
END:VEVENT
END:VCALENDAR