BEGIN:VCALENDAR
VERSION:2.0
PRODID:-//hacksw/handcal//NONSGML v1.0//EN
CALSCALE:GREGORIAN
BEGIN:VEVENT
DTEND:20240624T200000Z
UID:69e6a7743e827
DTSTAMP:20260421T002348Z
LOCATION:Van der Valk hotel\, Winthontlaan 4\, 3526 KV UtrechtWinthontlaan 4\, 3526 KV Utrecht\, Nederland
DESCRIPTION:

Ook dit jaar gaan wij wederom op zoek naar de allerbeste hacker binnen het PvIB\, met als doel te komen tot een PvIB capture The Flag (CTF) competitie. Net als de vorige edities keert ook dit jaar het wedstrijdelement terug. De avond wordt ingedeeld in diverse niveaus\, te weten White belt (beginnersniveau)\, Orange belt (mediorniveau) en Black belt (seniorniveau).

Dit event is uitermate geschikt voor studenten die kennis willen maken met het vakgebied van Informatiebeveiliging. Weet jij iemand die hier zeker aan zou moeten deelnemen? Stuur dit bericht dan aan haar/hem door of deel dit bericht.

Deelname is ook voor niet PvIB-leden gratis. 

Heb je geen hackerservaring \, maar je wilt het wel een keer proberen\, ook dan ben je van harte uitgenodigd. Er lopen tafelcoaches rond die je hierin kunnen ondersteunen en begeleiden.

Inschrijven met een team
Naast dat je je individueel kunt inschrijven\, is er eveneens de mogelijkheid je in te schrijven met een team van maximaal 4 personen. Wil je graag deelnemen met een team (maximaal 4 personen)\, meld je dan aan met de naam van je team\, de namen van je teamleden en jullie hackersniveau.

Heb je geen team? Geen probleem. Op de avond zelf kun je nog een team samenstellen met andere leden of zelfstandig aan de slag gaan.
Dit event is ook uitermate geschikt voor studenten die kennis willen maken met het vakgebied van Informatiebeveiliging. Weet jij iemand die hier zeker aan zou moeten deelnemen? Stuur dit bericht dan aan haar/hem door of deel dit bericht.

Door onze sponsors worden diverse challenges gebouwd van verschillende niveaus en je bent in de gelegenheid om alle challenges te proberen.

Belangrijke mededeling:
We hebben dit jaar een Discord-chat beschikbaar gesteld voor vragen en ondersteuning tijdens het CTF-evenement. Tevens zal het PvIB-team en het CTF-bouwteam belangrijke mededelingen ook via Discord gaan communiceren.
Wanneer je je aanmeldt voor dit event\, ontvang je een week voor het evenement een bevestiging met een uitnodiging voor het Discord kanaal.

Net als voorgaande jaren is het een BYOD event. Ons advies is om apparatuur van te voren te voorzien van de meest recente patches\, antivirus software en je hackerstoolkit. En verwijder alle persoonlijke informatie van de laptop. Werk vanuit een sandbox omgeving en installeer een virtual machine met de allerlaatste kali linux distributie. Dit heeft alle gereedschappen in zich om de CTF te kunnen doen.

Inschrijven kan tot vrijdag 21 juni 17:00 uur.






URL;VALUE=URI:
SUMMARY:CTF - Pen.testevent
DTSTART:20240624T160000Z
END:VEVENT
END:VCALENDAR