BEGIN:VCALENDAR
VERSION:2.0
PRODID:-//hacksw/handcal//NONSGML v1.0//EN
CALSCALE:GREGORIAN
BEGIN:VEVENT
DTEND:20220308T210000Z
UID:69e7d8e64f8a1
DTSTAMP:20260421T220702Z
LOCATION:Van der Valk UtrechtWinthontlaan 4\, 3526 KV Utrecht\, Netherlands
DESCRIPTION:

Na een afwezigheid van twee jaar lijkt het echt zover te zijn\; het Pen.test event komt er weer aan!


Op deze dag zullen we met een Capture the Flag competitie zien wie de beste hacker skills in huis heeft. De verschillende teams verzamelen punten door de verborgen vlaggen te vinden in de diverse challenges. Wie de meeste punten heeft is de winnaar.

URL;VALUE=URI:
SUMMARY:CTF - Pen test event
DTSTART:20220308T170000Z
END:VEVENT
END:VCALENDAR