BEGIN:VCALENDAR
VERSION:2.0
PRODID:-//hacksw/handcal//NONSGML v1.0//EN
CALSCALE:GREGORIAN
BEGIN:VEVENT
DTEND:20230615T193000Z
UID:69e5b03ca4b5f
DTSTAMP:20260420T064900Z
LOCATION:Van der Valk hotel\, Winthontlaan 4\, 3526 KV UtrechtWinthontlaan 4\, 3526 KV Utrecht\, Nederland
DESCRIPTION:





























De laatste jaren zijn social media een steeds groter onderdeel geworden van ons leven. Sterker nog\, social media heeft onze levensstijl veranderd. Er gaat geen dag voorbij zonder social media te gebruiken voor zakelijk en/of privé. Doordat tegenwoordig social media bij onze dagelijkse gang van zaken hoort\, zien we de gevaren hiervan niet meer. Van sommige mensen kun je hun hele leven volgen en alles over ze te weten komen. Dat is natuurlijk leuk als je het leven van vrienden die ver weg wonen wilt volgen\, maar die ongebreidelde hoeveelheid informatie op het Internet kan ook een gevaar vormen. Een leuke vakantiefoto van de familie op Bonaire\, geeft inbrekers bijvoorbeeld informatie over een leegstaand huis. Bij een verbroken relatie kan er zo maar een intiem filmpje opduiken\, hoewel daar tegenwoordig redelijke goed op nagezien wordt door de Social Media leveranciers.

Vooral jongeren zijn kwetsbaar op het Internet\, omdat ze vaak de consequenties van een post op Facebook of Instagram niet inzien. De snelheid van het viraal gaan van een bericht is ongelofelijk en probeer dan maar eens zo’n bericht 1000 maal van het Internet af te halen.

Een ander gevaar wordt gevormd door de algoritmes die gebruikt door de Social Media om hun gebruikers te ‘profilen’ en gerichte advertenties op ze af te sturen. Hierbij worden regelmatig privacygevoelige gegevens verzameld en in sommige gevallen gedeeld met derden.

Junior Meijering van Fox-IT zal een sessie verzorgen met als titel “I know what you did last summer” waarbij Junior laat zien hoe gemakkelijk het is om kruisverbanden te leggen tussen de diverse berichten die mensen achter laten op Social Media en hoe je die gegevens kan gebruiken voor onder ander Social Engineering aanvallen.

Aansluitend zal Rik Dolfing van Eye Security Social Media benaderen vanuit het perspectief van een technische hacker.

URL;VALUE=URI:
SUMMARY:De gevaren van Social Media
DTSTART:20230615T161500Z
END:VEVENT
END:VCALENDAR