BEGIN:VCALENDAR
VERSION:2.0
PRODID:-//hacksw/handcal//NONSGML v1.0//EN
CALSCALE:GREGORIAN
BEGIN:VEVENT
DTEND:20241128T193000Z
UID:69ed02bc8658f
DTSTAMP:20260425T200652Z
LOCATION:SonicBee\, Europalaan 400\, 3526 KS Utrecht\, NetherlandsEuropalaan 400\, 3526 KS Utrecht\, Nederland
DESCRIPTION:Beste Identity &amp\; Access Management Professionals (en Security professionals met sterke interesse voor IAM)\,

Met veel plezier wil ik jou uitnodigen voor onze eerste PvIB SIG-IAM bijeenkomst. Deze organiseren we centraal in het land op de locatie van SonicBee in Utrecht. We ontmoeten je dan graag aan het einde van de werkdag om na het nuttigen van een pizza met het inhoudelijke deel te starten.

Tijdens deze eerste bijeenkomst zullen we de koers van onze SIG-IAM bespreken\, de activiteiten die we willen organiseren en gezamenlijk een spoorboekje opstellen hoe we dit het komende jaar gaan invullen.

URL;VALUE=URI:
SUMMARY:Eerste PvIB SIG-IAM
DTSTART:20241128T163000Z
END:VEVENT
END:VCALENDAR