BEGIN:VCALENDAR
VERSION:2.0
PRODID:-//hacksw/handcal//NONSGML v1.0//EN
CALSCALE:GREGORIAN
BEGIN:VEVENT
DTEND:20230112T202000Z
UID:69e61dcfb5b12
DTSTAMP:20260420T143631Z
LOCATION:Van der Valk hotel\, Winthontlaan 4\, 3526 KV UtrechtWinthontlaan 4\, 3526 KV Utrecht\, Netherlands
DESCRIPTION:

Het jaar 2022 is ten einde en één mooi nieuwjaar staat voor de deur.
Tijdens dit event blikken we als vereniging terug op de gebeurtenissen van 2022 binnen het PvIB en daarbuiten\, ook kijken we vooruit naar 2023 en hetgeen we daarvan kunnen verwachten op security vlak en van de vereniging.

Het thema van de avond betreft Security Auditing. U wordt meegenomen in de wereld van security auditing vanuit een aantal perspectieven.

Relevante normenkaders en de lat die je daar op kan leggen\, verschillende soorten audits\, en technische- v.s. applicatie audits\, komen onder andere aan bod. Aan de hand van een casus uit de praktijk wordt het verschil tussen een audit en een inspectie duidelijk gemaakt waarbij ook de openbaarmaking van het sanctiebesluit aan de orde zal komen. Er zal worden ingezoomd op het uitvoeren van interne audits én hoe optimaal rendement uit een externe audit te behalen.

Kortom\, we maken deze avond eens op een andere wijze mee dan in de rol van auditee.

URL;VALUE=URI:
SUMMARY:Nieuwjaarsbijeenkomst 2023: Security Auditing
DTSTART:20230112T163000Z
END:VEVENT
END:VCALENDAR