BEGIN:VCALENDAR
VERSION:2.0
PRODID:-//hacksw/handcal//NONSGML v1.0//EN
CALSCALE:GREGORIAN
BEGIN:VEVENT
DTEND:20210609T154500Z
UID:69e866d21524f
DTSTAMP:20260422T081234Z
LOCATION:Online
DESCRIPTION:Cybercriminelen maken wereldwijd vele organisaties slachtoffer van ransomware. Je belangrijke data is gegijzeld en je krijgt die pas terug als je het losgeld betaalt. Het terugzetten van een back-up is zeker niet altijd de oplossing omdat de criminelen ook kunnen dreigen de data te publiceren\, wat leidt tot grote reputatieschade of boetes. Dit is een recept waarmee organisatie snel in crisisstand worden gebracht. Maar hoe pak je dat aan en waar loop je tegenaan tijdens een crisis? Dit zijn vragen waar je beter vooraf over kunt nadenken en niet pas wanneer er een echte crisis is. Daar gaan we jou bij helpen met het evenement van 9 juni. In een talkshow gaan we met een aantal experts en een slachtoffer in discussie over belangrijke onderwerpen die spelen tijdens een cybersecuritycrisis. 

In een talkshow gaan we met een aantal experts en een slachtoffer in discussie over belangrijke onderwerpen die spelen tijdens een cybersecuritycrisis. Daarbij doorlopen we een typisch crisisscenario van hack tot herstel.

Discussiepunten die onder andere voorbijkomen:


    Wat\, wanneer en aan wie gaan we communiceren over de crisis?
    Moeten we wel of niet betalen?
    En wat zijn daarbij de overwegingen?
    Moet er een extern forensisch onderzoek uitgevoerd worden en waar moeten we dan rekening mee houden?
    Wat en wanneer moet er gerapporteerd worden?
    Hoe bestuur je een crisis eigenlijk? 


Vanuit een studio gaan we live uitzenden en jij kunt online deelnemen aan het gesprek: vragen stellen aan de experts of live met hen discussiëren. Bij Debbie (activiteiten@pvib.nl) kun je aangeven of je jouw vraag live wil bespreken met de experts.

De Webinar wordt mede mogelijk gemaakt door  




    
        
            
            
        
    




URL;VALUE=URI:
SUMMARY:Help! Crisis door een cyber attack
DTSTART:20210609T140000Z
END:VEVENT
END:VCALENDAR