BEGIN:VCALENDAR
VERSION:2.0
PRODID:-//hacksw/handcal//NONSGML v1.0//EN
CALSCALE:GREGORIAN
BEGIN:VEVENT
DTEND:20180522T193000Z
UID:69e4c298684ae
DTSTAMP:20260419T135504Z
LOCATION:Hotel MitlandAriënslaan 1\, 3573 PT Utrecht\, Netherlands
DESCRIPTION:Wat is er nodig om aantoonbaar “in control” te zijn op dit belangrijke aandachtsgebied? Wat zijn de kernprincipes die gelden op het gebied van Identity &amp\; Access Management.
Hoe ga je om met de vele partijen die een rol spelen binnen een internationale organisatie? Wie is waarvoor verantwooordelijk en hoe zorg je ervoor dat die verantwoordelijkheid ook echt wordt genomen? Je wilt immers ook bestand zijn tegen social engineerings technieken zoals spearphishing?

 
URL;VALUE=URI:https://www.nvbi.nl/bijeenkomsten
SUMMARY:Identity & Access Management Toegangsrechten. Wie heeft er niet mee te maken?
DTSTART:20180522T170000Z
END:VEVENT
END:VCALENDAR