BEGIN:VCALENDAR
VERSION:2.0
PRODID:-//hacksw/handcal//NONSGML v1.0//EN
CALSCALE:GREGORIAN
BEGIN:VEVENT
DTEND:20170516T193000Z
UID:69e66eb26fe0a
DTSTAMP:20260420T202138Z
LOCATION:Hotel Mitland\, Ariënslaan 1\, UtrechtAriënslaan 1\, 3573 PT Utrecht\, Netherlands
DESCRIPTION:Holacracy® is een volledig model voor zelf-management binnen organisaties. Holacracy vervangt de traditionele management hiërarchie met een nieuw peer-to-peer "besturingssysteem systeem" dat de transparantie\, verantwoording en wendbaarheid van de organisatie verbetert.
URL;VALUE=URI:http://www.nvbi.nl/bijeenkomsten
SUMMARY:“IF EVERYONE HAS TO THINK OUTSIDE THE BOX\, MAYBE IT'S THE BOX THAT NEEDS FIXING”
DTSTART:20170516T170000Z
END:VEVENT
END:VCALENDAR