BEGIN:VCALENDAR
VERSION:2.0
PRODID:-//hacksw/handcal//NONSGML v1.0//EN
CALSCALE:GREGORIAN
BEGIN:VEVENT
DTEND:20260115T203000Z
UID:69e6535f62668
DTSTAMP:20260420T182503Z
LOCATION:Van der Valk\, Winthontlaan 4\, 3526 KV Utrecht
DESCRIPTION:

Registreren op mijn.pvib.nl

Platform voor InformatieBeveiliging heeft sinds donderdag 1 mei 2025 een nieuw verenigingsbureau. Als je lid bent van de vereniging\, dan is je reeds bestaande PvIB-account (www.pvib.nl) niet meer actief en dien je een nieuw account aan te maken op mijn.pvib.nl. Je kunt daarmee kosteloos registreren. Als je geen lid bent van PvIB\, dan kun je voor het tarief van € 60 deelnemen\; je hebt daarvoor geen PvIB-account nodig. Om je voor het ledentarief (kosteloos) in te schrijven dien je in te loggen. Als je niet ingelogd bent\, dan zijn de tarieven en inschrijfopties voor niet-leden van toepassing.

Dit jaar zal de nieuwjaarsbijeenkomst van het PvIB opnieuw in het teken staan van een “Security Café”.

Na de nieuwjaarstoespraak van onze voorzitter Jessica Conquet\, kunnen deelnemers aansluiten bij een gesprekstafels waar\, onder begeleiding van een gespreksleider\, stellingen met betrekking tot een specifiek thema binnen informatiebeveiliging zullen worden besproken.

De thema’s van de gesprekstafels zijn 


    Identity &amp\; Access Management - André Koot
    Governance\, Risk &amp\; Compliance - André Beerten
    Information Security Strategy - Kelvin Rorive
    AI Security - Max Webber
    Security Monitoring\, Detection &amp\; Response - Jessica Conquet


Deelnemers kunnen zo op een persoonlijke en informele wijze hun kennis\, ervaring en inzichten met elkaar delen\, en het belooft dan ook een waardevolle en leuke avond te worden.

URL;VALUE=URI:
SUMMARY:Nieuwjaarsbijeenkomst PvIB
DTSTART:20260115T170000Z
END:VEVENT
END:VCALENDAR