BEGIN:VCALENDAR
VERSION:2.0
PRODID:-//hacksw/handcal//NONSGML v1.0//EN
CALSCALE:GREGORIAN
BEGIN:VEVENT
DTEND:20220113T193000Z
UID:69ecc78dbeb8a
DTSTAMP:20260425T155421Z
LOCATION:Online
DESCRIPTION:

Wekelijks zijn IT incidenten in het nieuws. De meesten van ons zijn de afgelopen weken nog druk geweest met 'log4j'.

In de luchtvaart weet men dat je voor veilig vliegen ongelukken goed moet onderzoeken en daarvan moet leren. Alsmede het belang van oefenen van personeel. Dit geldt ook voor IT security en daarom gaan we in op de grootste incidenten van 2021.

Wat waren ze en wat hebben we ervan geleerd?

Maar ook gaan we in op de grootste cyberoefening in Nederland van 2021: ISIDOOR.

Kees Verkade van het NCSC was projectmanager van ISIDOOR\, een zeer grote cyberoefening tezamen met bijna 100 bedrijven en circa 1.500 deelnemers.
Wat kunnen wij daar van leren?

Als je hier meer van wilt weten\, kijk en  luister dan mee op 13 januari as. Helaas is deze bijeenkomst weer volledig digitaal. 

De Webinar zal plaatsvinden middels MS Teams. Nadat je je hebt aangemeld ontvang je hiervoor een link om deel te nemen. Het is dus noodzakelijk je vooraf aan te melden via de website van PvIB\, anders heb je geen toegang.

URL;VALUE=URI:
SUMMARY:Nieuwjaarsbijeenkomst: IT incidenten 2021 en ISIDOOR - online
DTSTART:20220113T180000Z
END:VEVENT
END:VCALENDAR