BEGIN:VCALENDAR
VERSION:2.0
PRODID:-//hacksw/handcal//NONSGML v1.0//EN
CALSCALE:GREGORIAN
BEGIN:VEVENT
DTEND:20180320T203000Z
UID:69e4da358e3b7
DTSTAMP:20260419T153549Z
LOCATION:Hotel Mitland\, Utrecht
DESCRIPTION:Termen als "ondermijning" en "bestrijding" hebben al weer een paar jaar terug hun intrede gedaan bij de opsporingsdiensten. Het alleen opsporen van daders van strafbare feiten is al lang niet effectief genoeg meer. Het zal een vertaling van de tijdsgeest en misschien wel een modegril zijn\, maar is voor ons als nationale politie wel de keiharde realiteit van alle dag. 
URL;VALUE=URI:http://bit.ly/2GwZsft
SUMMARY:Ondermijning en Bestrijding
DTSTART:20180320T180000Z
END:VEVENT
END:VCALENDAR