BEGIN:VCALENDAR
VERSION:2.0
PRODID:-//hacksw/handcal//NONSGML v1.0//EN
CALSCALE:GREGORIAN
BEGIN:VEVENT
DTEND:20220512T191500Z
UID:69e64ed6ea7e1
DTSTAMP:20260420T180542Z
LOCATION:Van der ValkWinthontlaan 4\, 3526 KV Utrecht\, Netherlands
DESCRIPTION:Internationaal worden veel organisaties getroffen door Ransomware met destructieve gevolgen\, het is ook niet voor niets een van de  grootste cyberdreigingen van dit moment.

Maar wie zitten nu achter deze afschuwelijke aanvallen en wat doet Nederland om deze cybercriminelen op te sporen? Wij hebben twee sprekers bereid gevonden om hier over meer te vertellen.

Stichting Z-CERT het expertisecentrum voor cybersecurity in de zorg gaat vertellen over wie achter deze aanvallen zitten en hoe deze criminele groeperingen te werk gaan. De Nederlandse politie gaat vertellen over wat zij doen met betrekking tot de opsporing.

De dagvoorzitters Walter Leemhuis en Mitchell Sudmeijer heten jullie van harte welkom op 12 mei fysiek in Utrecht.

Een derde spreker volgt zeer binnenkort.

URL;VALUE=URI:
SUMMARY:Ontwikkeling van maatregelen tegen Ransomware
DTSTART:20220512T160000Z
END:VEVENT
END:VCALENDAR