BEGIN:VCALENDAR
VERSION:2.0
PRODID:-//hacksw/handcal//NONSGML v1.0//EN
CALSCALE:GREGORIAN
BEGIN:VEVENT
DTEND:20240111T203000Z
UID:69e561cde230c
DTSTAMP:20260420T011421Z
LOCATION:Van der Valk hotel\, Winthontlaan 4\, 3526 KV UtrechtWinthontlaan 4\, 3526 KV Utrecht\, Nederland
DESCRIPTION:

Deze avond is het onderwerp “OSINT” (Open Source Intelligence). Voor een goede informatiebeveiliging is zicht op wat er allemaal in de buitenwereld gebeurt van cruciaal belang. De enorme hoeveelheid informatie die via internet en andere middelen beschikbaar is maakt het echter niet altijd even makkelijk het kaf van het koren te scheiden\, en het verkrijgen van de juiste informatie en inlichtingen op het juiste moment vereist specifieke vaardigheden en kennis. Een van de belangrijkste methoden om dit te bereiken is OSINT.

OSINT expert Arno Reuser zal ons meenemen in de fascinerende wereld van OSINT met een avondvullend programma\, waarbij hij uitgebreid zal ingaan op wat OSINT precies is en hoe het kan worden gebruikt binnen de informatiebeveiliging. Arno heeft ruime ervaring binnen het vakgebied en weet als geen ander het onderwerp op een toegankelijke\, interactieve en boeiende manier over te brengen. Het belooft dan ook weer een uiterst interessante en leuke avond te worden.

URL;VALUE=URI:
SUMMARY:Nieuwjaarsbijeenkomst: OSINT
DTSTART:20240111T170000Z
END:VEVENT
END:VCALENDAR