BEGIN:VCALENDAR
VERSION:2.0
PRODID:-//hacksw/handcal//NONSGML v1.0//EN
CALSCALE:GREGORIAN
BEGIN:VEVENT
DTEND:20180619T193000Z
UID:69e6bf25e4e93
DTSTAMP:20260421T020453Z
LOCATION:Hotel MitlandAriënslaan 1\, 3573 PT Utrecht\, Netherlands
DESCRIPTION:Barry van Kampen van The S-Unit informeert u over Pentesting en Ethical Hacking. Het toevoegen van “Cyber functionaliteit” is inmiddels heel normaal\, maar denken we wel na over de gevolgen en de risico’s? Of het nu gaat om IOT\, gebouwen automatisering\, het “even versturen van data”\, de risico’s moeten allemaal meegewogen worden.
URL;VALUE=URI:https://www.nvbi.nl/bijeenkomsten/studiebijeenkomst-pentesting-en-ethical-hacking-barry-van-kampen?ArtMID=2499&ArticleID=1034&tabid=73
SUMMARY:Pentesting en Ethical Hacking
DTSTART:20180619T170000Z
END:VEVENT
END:VCALENDAR