BEGIN:VCALENDAR
VERSION:2.0
PRODID:-//hacksw/handcal//NONSGML v1.0//EN
CALSCALE:GREGORIAN
BEGIN:VEVENT
DTEND:20180925T190000Z
UID:69e541d1d3de1
DTSTAMP:20260419T225753Z
LOCATION:Hotel MitlandAriënslaan 1\, 3573 PT Utrecht\, Netherlands
DESCRIPTION:Sinds 25 mei is de nieuwe privacywetgeving AVG in werking. Sommige aspecten van de nieuwe privacy-regels zijn  moeilijk te vertalen naar de praktijk. In deze sessie zullen een aantal van deze praktijk-uitdagingen worden behandeld. 
 
URL;VALUE=URI:https://www.nvbi.nl/bijeenkomsten
SUMMARY:Privacy en AVG in de praktijk
DTSTART:20180925T170000Z
END:VEVENT
END:VCALENDAR