BEGIN:VCALENDAR
VERSION:2.0
PRODID:-//hacksw/handcal//NONSGML v1.0//EN
CALSCALE:GREGORIAN
BEGIN:VEVENT
DTEND:20251112T170000Z
UID:69e64d87ae452
DTSTAMP:20260420T180007Z
LOCATION:Spant! Bussum
DESCRIPTION:Vier tracks 


    Geopolitical Risks &amp\; Digital Sovereignty
    Resilience Through Cooperation
    Innovation &amp\; Opportunities
    Going Concern vs Disruption


en een heuse cybergame

Kijk voor meer informatie en registratie op de website van ISACA.

URL;VALUE=URI:
SUMMARY:Risk Event 2025: Securing the Digital Frontier - Seizing Opportunities and Managing Risks in a Volatile World
DTSTART:20251112T080000Z
END:VEVENT
END:VCALENDAR