BEGIN:VCALENDAR
VERSION:2.0
PRODID:-//hacksw/handcal//NONSGML v1.0//EN
CALSCALE:GREGORIAN
BEGIN:VEVENT
DTEND:20241106T164500Z
UID:69ed031a41ae0
DTSTAMP:20260425T200826Z
LOCATION:Spant!\, Doctor Abraham Kuyperlaan 3\, 1402 SB BussumDoctor Abraham Kuyperlaan 3\, 1402 SB Bussum\, Nederland
DESCRIPTION:Meer informatie en aanmelden zie
Risk Event

URL;VALUE=URI:
SUMMARY:Risk Event: Purple Ocean - inspiring change and creating value
DTSTART:20241106T073000Z
END:VEVENT
END:VCALENDAR