BEGIN:VCALENDAR
VERSION:2.0
PRODID:-//hacksw/handcal//NONSGML v1.0//EN
CALSCALE:GREGORIAN
BEGIN:VEVENT
DTEND:20220406T183000Z
UID:69e4f5166c687
DTSTAMP:20260419T173030Z
LOCATION:MS Teams
DESCRIPTION:Op 6 april organiseren we een online sessie over Security Metrics\, oftewel het meetbaar maken van security. Reinder Wolthuis (TNO) zal ons bijpraten over de nut en noodzaak van het meetbaar maken van Cybersecurity\, vanuit verschillende invalshoeken (weerbaarheidsniveau\, compliance\, dreigingsprioritering). Daarbij zal zeker ook worden gekeken naar de uitdagingen waar je mee te maken krijgt om metrics te definiëren en te implementeren. Tijdens deze bijeenkomst is er ruimte om\, met elkaar\, over dit onderwerp van gedachten te wisselen. Reinder kan hier vanuit zijn achtergrond bijdragen aan de discussie.

URL;VALUE=URI:
SUMMARY:Rondetafel: Meetbaar veilig met Security Metrics
DTSTART:20220406T170000Z
END:VEVENT
END:VCALENDAR