BEGIN:VCALENDAR
VERSION:2.0
PRODID:-//hacksw/handcal//NONSGML v1.0//EN
CALSCALE:GREGORIAN
BEGIN:VEVENT
DTEND:20231101T202000Z
UID:69e580d56b71a
DTSTAMP:20260420T032645Z
LOCATION:Van der Valk hotel\, Winthontlaan 4\, 3526 KV UtrechtWinthontlaan 4\, 3526 KV Utrecht\, Nederland
DESCRIPTION:Deze avond willen we het onderwerp SBOM eens beetpakken. SBOM staat voor Software Bill Of Materials (SBOM). De SBOM is een belangrijke bouwsteen om de transparantie van de software supply chain te vergroten en de security te versterken. Het helpt om bewust te worden van kwetsbaarheden in de onderliggende softwarecomponenten en om de impact van die kwetsbaarheden op het IT-landschap beter in te schatten. Denk bijvoorbeeld nog eens terug aan het log4j incident van 2021 waarbij het voor veel organisatie moeilijk was vast te stellen op welke plekken log4j exact binnen hun systemen in gebruik was. TNO en NCSC hebben samen onderzocht hoe organisaties SBOMs op een praktische manier kunnen integreren in hun bedrijfsvoering en hebben ook een startersgids gemaakt. Daarnaast hebben we Philips bereid gevonden om ons mee te nemen in hun ervaringen met het implementeren van SBOM.

URL;VALUE=URI:
SUMMARY:SBOM
DTSTART:20231101T171500Z
END:VEVENT
END:VCALENDAR