BEGIN:VCALENDAR
VERSION:2.0
PRODID:-//hacksw/handcal//NONSGML v1.0//EN
CALSCALE:GREGORIAN
BEGIN:VEVENT
DTEND:20200310T210000Z
UID:69ed84325037f
DTSTAMP:20260426T051914Z
LOCATION:Van der Valk hotel UtrechtWinthontlaan 4\, 3526 KV Utrecht\, Nederland
DESCRIPTION:AFGELASTING 

Beste leden\,

Het was onvermijdelijk. Het corona virus heeft ook Nederland bereikt en de verspreiding lijkt snel te gaan. De aard van onze vereniging is om mensen bij elkaar te brengen. Zo hebben we op 10 maart een evenement gepland met het onderwerp Awareness. De activiteitencommissie vindt het beperken van de kans op verdere verspreiding van het virus belangrijker dan het bij elkaar brengen van haar leden. Daarom is besloten om de bijeenkomst van 10 maart te annuleren en te herplannen in het najaar. De evenementen in april gaan gewoon door\, er vanuit gaande dat er tegen die tijd meer richtlijnen zijn hoe wij het coronavirus onder controle gaan krijgen. We zullen de ontwikkelingen derhalve nauwlettend in de gaten houden.

We vertrouwen op jullie begrip.

Vriendelijke groet\,
PvIB Activiteiten commissie








URL;VALUE=URI:
SUMMARY:AFGELASTING - Security café: Awareness - een gestructureerde aanpak
DTSTART:20200310T170000Z
END:VEVENT
END:VCALENDAR