BEGIN:VCALENDAR
VERSION:2.0
PRODID:-//hacksw/handcal//NONSGML v1.0//EN
CALSCALE:GREGORIAN
BEGIN:VEVENT
DTEND:20251007T170000Z
UID:69ece790e6812
DTSTAMP:20260425T181056Z
LOCATION:Gooiland\, Emmastraat 2 1211 NG HilversumEmmastraat 2\, 1211 NG Hilversum\, Nederland
DESCRIPTION:Op 7 oktober 2025 vindt in het Gooiland te Hilversum het Security Congres plaats\, georganiseerd door ISACA\, NOREA en PvIB.

Het overkoepelende thema is het uiterst actuele onderwerp ‘digitale soevereiniteit’: hoe behouden we grip op onze digitale infrastructuur\, data en kritieke systemen\, te midden van geopolitieke spanningen en afhankelijkheid van niet-europese leveranciers van software en diensten?

Wij hebben weer een keur aan goede en relevante sprekers aan ons kunnen binden. De dag wordt geopend door 2 kanjers van denkers en sprekers: Lokke Moerel en Liesbeth Holterman en de dag wordt afgesloten door Bert Hubert\, een autoriteit in ons vakgebied\, waarin hij met humor en herkenbare voorbeelden uitlegt wat digitale autonomie (vertrouwelijkheid\, wendbaarheid\, weerbaarheid) inhoudt.

Gedurende de middag gaan we uiteen in drie parallelle sporen\, zodat er wat te kiezen valt: ⁠Weerbaarheid van de digitale samenleving Continuïteit van operationele technologie (OT) ⁠Strategische en tactische digitale autonomie van Nederland

Klik op de link voor alle informatie.

URL;VALUE=URI:
SUMMARY:Security-Congres 2025: Digitale soevereiniteit
DTSTART:20251007T100000Z
END:VEVENT
END:VCALENDAR