BEGIN:VCALENDAR
VERSION:2.0
PRODID:-//hacksw/handcal//NONSGML v1.0//EN
CALSCALE:GREGORIAN
BEGIN:VEVENT
DTEND:20241009T170000Z
UID:69ed01276b5ca
DTSTAMP:20260425T200007Z
LOCATION:Gooiland HilversumEmmastraat 2\, 1211 NG Hilversum\, Nederland
DESCRIPTION:Meer informatie en aanmelden voor zowel leden van NOREA\, ISACA en PvIB als niet-leden van deze verenigingen\, via deze externe link 

URL;VALUE=URI:
SUMMARY:Security-Congres 2024
DTSTART:20241009T100000Z
END:VEVENT
END:VCALENDAR