BEGIN:VCALENDAR
VERSION:2.0
PRODID:-//hacksw/handcal//NONSGML v1.0//EN
CALSCALE:GREGORIAN
BEGIN:VEVENT
DTEND:20231010T193000Z
UID:69e4ddbd62fdb
DTSTAMP:20260419T155053Z
LOCATION:Van der Valk hotel\, Winthontlaan 4\, 3526 KV UtrechtWinthontlaan 4\, 3526 KV Utrecht\, Nederland
DESCRIPTION:

Vrijwel elke organisatie is in meer of mindere mate afhankelijk van ketenpartners (leveranciers en hun onderleveranciers) om de producten en diensten te kunnen leveren. Het kan gaan om een afhankelijkheid van deelproducten voor een eindproduct of IT-diensten die door derden worden geleverd. In beide gevallen is de organisatie afhankelijk van de kwaliteit\, beveiliging en continuïteit van deze ketenpartners.

Op 10 oktober bekijken we de security in de keten vanuit verschillende invalshoeken.

We hebben te gast:


    Robbert Kramer die vertelt hoe ASML grip heeft op de security van haar vele toeleveranciers.
    Tijmen Visser van Avisi bekijkt het vanuit de ogen van een belangrijke leverancier voor haar klanten. Hoe kan je omgaan met de verscheidenheid aan security eisen die door klanten worden gesteld?
    Dion Koeze en Bart van den Berg presenteren vanuit het NCSC over beveiliging in de keten vanuit hun adviserende rol.


Na deze interessante avond begrijpen we waar de uitdagingen liggen\, maar ook hoe we deze kunnen aanpakken om tot een veilige samenwerking binnen de keten te komen.

URL;VALUE=URI:
SUMMARY:Security in de keten
DTSTART:20231010T160000Z
END:VEVENT
END:VCALENDAR