BEGIN:VCALENDAR
VERSION:2.0
PRODID:-//hacksw/handcal//NONSGML v1.0//EN
CALSCALE:GREGORIAN
BEGIN:VEVENT
DTEND:20210916T183000Z
UID:69e5b00bce42f
DTSTAMP:20260420T064811Z
LOCATION:Van der Valk UtrechtWinthontlaan 4\, 3526 KV Utrecht\, Netherlands
DESCRIPTION:LET OP: DEZE BIJEENKOMST VINDT WEER UITSLUITEND FYSIEK PLAATS IN HET VAN DER VALK HOTEL IN UTRECHT.

MELD JE TIJDIG AAN. HET AANTAL DEELNEMERS IS BEPERKT.



Goed om te weten:
PvIB heeft besloten om deze bijeenkomst weer fysiek te organiseren. Omdat het gaat om een interactieve bijeenkomst is het helaas niet mogelijk om dit in hybride vorm te organiseren. Vanwege de interactieve vorm zal de bijeenkomst niet worden opgenomen.

Tijdens deze bijeenkomst gaat Peter van Eijk in op aspecten van risico beheersing inzake cloud oplossingen/leveranciers.

De onderwerpen die aan de orde komen zijn:


    5 elements of cloud security\;
    3rd party risk management/regievoering\;
    oefenen met CCM en CAIQ instrumenten vanuit de cloud security alliance\;
    het ‘shared responsibility’ model.


Doel van deze bijeenkomst is het inzicht vergroten in risico’s en de afhankelijkheid van cloud oplossingen\, alsmede hoe daar mee om te gaan als afnemer.

Live ontmoeten met Coronatoegangsbewijs
Voor fysieke toegang tot de bijeenkomst is het conform de huidige regelgeving verplicht om een Coronatoegangsbewijs in de vorm van een vaccinatiebewijs\, een herstelbewijs of een recente coronatest (met een negatieve testuitslag van minder dan 24 uur voor de activiteit) te overleggen. Dit kan middels een geldig Coronatoegangsbewijs (in de CoronaCheck-app of geprint via https://coronacheck.nl). Toegang is alleen mogelijk met een geldige Corona qr-code. De anderhalvemetermaatregel hoeft dan niet meer in acht te worden genomen.
Meer informatie tref je na aanmelding aan in de mail met je deelnamebevestiging.

URL;VALUE=URI:
SUMMARY:Manage je Cloud risico
DTSTART:20210916T160000Z
END:VEVENT
END:VCALENDAR