BEGIN:VCALENDAR
VERSION:2.0
PRODID:-//hacksw/handcal//NONSGML v1.0//EN
CALSCALE:GREGORIAN
BEGIN:VEVENT
DTEND:20260210T203000Z
UID:69e64e6abeff6
DTSTAMP:20260420T180354Z
LOCATION:Van der Valk UtrechtWinthontlaan 4\, 1e\, 2e en 20e etage\, 3526 KV Utrecht\, Nederland
DESCRIPTION:

Registreren op mijn.pvib.nl

Platform voor InformatieBeveiliging heeft sinds donderdag 1 mei 2025 een nieuw verenigingsbureau. Als je lid bent van de vereniging\, dan is je reeds bestaande PvIB-account (www.pvib.nl) niet meer actief en dien je een nieuw account aan te maken op mijn.pvib.nl. Je kunt daarmee kosteloos registreren. Als je geen lid bent van PvIB\, dan kun je voor het tarief van € 60 deelnemen\; je hebt daarvoor geen PvIB-account nodig. Om je voor het ledentarief (kosteloos) in te schrijven dien je in te loggen. Als je niet ingelogd bent\, dan zijn de tarieven en inschrijfopties voor niet-leden van toepassing.

Een interactieve thema-avond waarin we de krachtige samenhang tussen ISMS\, QMS\, normeringen en auditing verkennen. Of je nu werkt aan compliance\, aan procesoptimalisatie\, of aan het inrichten van een volwassen informatiebeveiligingsorganisatie: deze avond is voor jou. Wat kun je verwachten?


    Praktische inzichten van professionals die met beide voeten in de praktijk staan  
    Inspirerende voorbeelden van geïntegreerde ISMS- en QMS-aanpakken
    Toekomstgerichte blik op audits als katalysator voor verbetering
    Ruimte voor netwerken\, vragen en discussie Leer hoe normenkaders geen keurslijf hoeven te zijn\, maar juist kunnen aanzetten tot innovatie\, samenwerking en vertrouwen.


URL;VALUE=URI:
SUMMARY:Themabijeenkomst: Auditing\, ISMS\, QMS\, Normering
DTSTART:20260210T170000Z
END:VEVENT
END:VCALENDAR