BEGIN:VCALENDAR
VERSION:2.0
PRODID:-//hacksw/handcal//NONSGML v1.0//EN
CALSCALE:GREGORIAN
BEGIN:VEVENT
DTEND:20250402T193000Z
UID:69e6bf1eecc17
DTSTAMP:20260421T020446Z
LOCATION:Van der Valk hotelWinthontlaan 4\, 3526 KV Utrecht\, Nederland
DESCRIPTION:Je internet valt uit. Vervelend\, maar je zet een hotspot op en werkt verder. Maar wat als niet alleen jouw verbinding wegvalt\, maar een complete haven stilvalt door een cyberaanval? Wat als een energiecentrale wordt geraakt en hele regio’s zonder stroom komen te zitten?

Op deze avond duiken we diep in de cyber resilience van kritieke infrastructuur. Hoe verschillen IT en OT als het gaat om weerbaarheid? Wat betekent een cyberaanval op een vitale sector écht voor de samenleving? En wat kunnen we als security professionals leren van de manier waarop kritieke organisaties zich voorbereiden op het ondenkbare?

Lisa de Wilde neemt je mee in de impact van cyberaanvallen op vitale processen. Van internetstoringen tot de stilstand van scheepvaart: wat gebeurt er als kritieke infrastructuur geraakt wordt\, en hoe verschilt het herstel van een aanval in vitale versus niet-vitale organisaties? Met haar ervaring in nationale en internationale incident respons geeft ze je een uniek\, interactief kijkje achter de schermen.

Chris Reurings sluit de avond af met een deep dive in OT-security. Wat maakt operationele technologie zo anders dan IT\, en waarom heeft dat grote gevolgen voor de manier waarop je cybersecurity aanpakt? Met zijn ervaring in de energie- en chemische sector laat hij zien hoe je kritieke systemen weerbaarder maakt tegen cyberdreigingen.

Voor wie?
Voor iedereen die verder wil kijken dan traditionele IT-security en wil begrijpen hoe Nederland haar kritieke infrastructuur beschermt tegen cyberdreigingen. Of je nu CISO\, ISO\, security consultant of IT-beveiliger bent\, deze sessie geeft je inzichten die je niet wilt missen.

URL;VALUE=URI:
SUMMARY:Cyber Resilience van Kritieke Infrastructuur: Hoe pak je dat aan?
DTSTART:20250402T160000Z
END:VEVENT
END:VCALENDAR