BEGIN:VCALENDAR
VERSION:2.0
PRODID:-//hacksw/handcal//NONSGML v1.0//EN
CALSCALE:GREGORIAN
BEGIN:VEVENT
DTEND:20251105T203000Z
UID:69ece742e278c
DTSTAMP:20260425T180938Z
LOCATION:Van der Valk UtrechtWinthontlaan 4\, 1e\, 2e en 20e etage\, 3526 KV Utrecht\, Nederland
DESCRIPTION:Registreren op mijn.pvib.nl

Registratie is gesloten

Platform voor InformatieBeveiliging heeft sinds donderdag 1 mei 2025 een nieuw verenigingsbureau. Als je lid bent van de vereniging\, dan is je reeds bestaande PvIB-account (www.pvib.nl) niet meer actief en dien je een nieuw account aan te maken op mijn.pvib.nl. Je kunt daarmee kosteloos registreren. Als je geen lid bent van PvIB\, dan kun je voor het tarief van € 60 deelnemen\; je hebt daarvoor geen PvIB-account nodig. Om je voor het ledentarief (kosteloos) in te schrijven dien je in te loggen. Als je niet ingelogd bent\, dan zijn de tarieven en inschrijfopties voor niet-leden van toepassing.



Cyberoorlog is geen sciencefiction meer. Waar digitale aanvallen ooit het terrein waren van hackers en hobbyisten\, zijn ze inmiddels een vast onderdeel van moderne oorlogsvoering. Grenzen tussen het fysieke en digitale slagveld vervagen\, en de gevolgen raken niet alleen legers\, maar ook bedrijven\, overheden en burgers.

Deze avond nemen vier experts je mee in de wereld van moderne dreigingen en digitale strijd. Vanuit verschillende invalshoeken — strategisch\, militair en organisatorisch — verkennen zij hoe cyberoorlogvoering zich ontwikkelt\, wat we kunnen leren van recente conflicten en hoe organisaties zich hiertegen kunnen wapenen.

Roel Gloudemans (Director IT Risk &amp\; Compliance bij Conclusion Group) opent de avond met de vraag hoe we organisaties weerbaar houden in een wereld vol groeiende dreigingen. Moeten we alles blijven regelen en controleren\, of juist leren loslaten en accepteren dat incidenten onvermijdelijk zijn? Zijn reflectie op techniek\, mens en organisatie zet de toon voor een realistische discussie over weerbaarheid.

Tamara Hendriksen en Jort Kollerie van Orange Cyberdefense gaan vervolgens dieper in op cyber- en informatieoorlogsvoering. Zij belichten de rol van statelijke actoren\, geopolitieke ontwikkelingen en concrete voorbeelden uit recente conflicten. Wat drijft deze digitale machten\, en waarom raakt hun strijd ons allemaal?

De avond sluit af met Luitenant-Kolonel Marnix Felius\, die vanuit Defensie zijn visie deelt op Modern Warfare. Hij bespreekt hoe hedendaagse conflicten laten zien dat de grens tussen cyber en conventionele oorlog snel vervaagt — en welke lessen we daaruit moeten trekken voor de toekomst van nationale en digitale veiligheid. Een avond vol actuele inzichten\, scherpe analyses en praktijkervaring – voor iedereen die begrijpt dat cybersecurity inmiddels meer is dan techniek: het is een strategische en maatschappelijke uitdaging.

URL;VALUE=URI:
SUMMARY:Themabijeenkomst: Cyberwarfare - De nieuwe realiteit van conflict
DTSTART:20251105T170000Z
END:VEVENT
END:VCALENDAR