BEGIN:VCALENDAR
VERSION:2.0
PRODID:-//hacksw/handcal//NONSGML v1.0//EN
CALSCALE:GREGORIAN
BEGIN:VEVENT
DTEND:20201215T161500Z
UID:69e591cdd38fc
DTSTAMP:20260420T043909Z
LOCATION:Online
DESCRIPTION:

Gartner verwacht dat in 2024 tenminste 40% van de organisaties een strategie heeft geadopteerd om SASE te implementeren. Sase staat voor “Secure acces server edge”\, een term die Gartner in 2018/2019 heeft geïntroduceerd.

De data van organisaties leeft al lang niet meer uitsluitend in het eigen datacenter bevindt zich steeds meer in diverse cloud oplossingen. Dit heeft tot gevolgd dat traditionele datastromen veranderen en organisaties zich hier op moeten gaan aanpassen.

Belangrijke componenten in het Sase gedachtengoed zijn SD-Wan\, CASB\, Firewall as a service en zero trust network acces.

Maar wat houdt Sase nu echt in? Is het oude wijn in nieuwe zakken? Of toch baanbrekende nieuwe inzichten en technieken?

In dit webinar willen we met een aantal interessante sprekers dit onderwerp eens goed uitdiepen.

LET OP!
Naar aanleiding van de persconferentie van vanavond\, waarbij is aangegeven dat vanaf morgen alle publiek toegankelijke locaties gesloten zijn\, hebben we moeten besluiten de Webinar via MS Teams te organiseren in plaats vanuit de studio zoals je van ons gewend bent. Deelnemen kan via onderstaande link.

Microsoft Teams-vergadering

Neem deel via je computer of mobiele app
Klik hier om deel te nemen aan de vergadering
URL;VALUE=URI:
SUMMARY:Themabijeenkomst: Alles wat je altijd al wilde weten over Secure Acces Server Edge (SASE)
DTSTART:20201215T150000Z
END:VEVENT
END:VCALENDAR