BEGIN:VCALENDAR
VERSION:2.0
PRODID:-//hacksw/handcal//NONSGML v1.0//EN
CALSCALE:GREGORIAN
BEGIN:VEVENT
DTEND:20250603T193000Z
UID:69ece85a208ba
DTSTAMP:20260425T181418Z
LOCATION:Van der Valk UtrechtWinthontlaan 4\, 3526 KV Utrecht\, Nederland
DESCRIPTION:Registreren op mijn.pvib.nl

Registratie is open

Platform voor InformatieBeveiliging heeft sinds donderdag 1 mei 2025 een nieuw verenigingsbureau. Als je lid bent van de vereniging\, dan is je reeds bestaande PvIB-account (www.pvib.nl) niet meer actief en dien je een nieuw account aan te maken op mijn.pvib.nl. Je kunt daarmee kosteloos registreren als je ingelogd bent.


Veel organisaties hebben in hun digitale transitie met succes gebruik gemaakt van de mogelijkheden die clouddiensten bieden. Kostenbesparing\, elasticiteit en snelheid van ontwikkelen waren belangrijke drivers om deze transitie te maken. In veel gevallen is dit echter gebeurd zonder vooraf een goede risicoanalyses uit te voeren. Nu we zien nu dat de geopolitieke situatie sterk is veranderd en Amerika zich in steeds mindere mate als betrouwbare handelspartner opstelt worden risico’s van gebrek aan autonomie steeds zichtbaarder. Deze avond willen graag stilstaan wat deze risico’s precies zijn en hoe je tot een aanpak komt waarbij je voordelen van cloud kunt inzetten en tegelijkertijd digitale autonomie op passende wijze organiseert.

URL;VALUE=URI:
SUMMARY:Themabijeenkomst Digitale autonomie
DTSTART:20250603T160000Z
END:VEVENT
END:VCALENDAR