BEGIN:VCALENDAR
VERSION:2.0
PRODID:-//hacksw/handcal//NONSGML v1.0//EN
CALSCALE:GREGORIAN
BEGIN:VEVENT
DTEND:20250515T193000Z
UID:69ece6f10c47c
DTSTAMP:20260425T180817Z
LOCATION:Van der Valk Utrecht
DESCRIPTION:Registreren op mijn.pvib.nl

Registratie is open

Platform voor InformatieBeveiliging heeft sinds donderdag 1 mei 2025 een nieuw verenigingsbureau. Als je lid bent van de vereniging\, dan is je reeds bestaande PvIB-account (www.pvib.nl) niet meer actief en dien je een nieuw account aan te maken op mijn.pvib.nl. Je kunt daarmee kosteloos registreren. Als je geen lid bent van PvIB\, dan kun je voor het tarief van € 60 deelnemen\; je hebt daarvoor geen PvIB-account nodig. Om je voor het ledentarief (kosteloos) in te schrijven dien je in te loggen. Als je niet ingelogd bent\, dan zijn de tarieven en inschrijfopties voor niet-leden van toepassing.


Cybersecurity is al lang niet meer alleen een technisch vraagstuk. Juridische kaders spelen een steeds grotere rol in het beveiligen van informatie en het beheersen van digitale risico’s.

Tijdens deze avond staan we stil bij het snijvlak van ICT-recht en informatiebeveiliging. Wat moet u als professional weten over de juridische ontwikkelingen die direct van invloed zijn op uw vakgebied?

We hebben vier deskundige sprekers uitgenodigd die u meenemen in actuele en relevante wet- en regelgeving:


    Machiel Takens gaat in op de AI Act\, de Europese verordening die kunstmatige intelligentie reguleert. Ook in de context van informatiebeveiliging roept deze wet vragen op over transparantie\, risicobeheersing en compliance.
    Floor Terra belicht het complexe onderwerp van doorgiften van persoonsgegevens aan derde landen\, met speciale aandacht voor de recente ontwikkelingen in het kader van het EU-VS Data Privacy Framework. Wat betekent dit voor organisaties die met internationale partners werken? Met deze avond bieden wij u een helder overzicht van de juridische thema’s die de komende jaren bepalend zullen zijn voor het werk van elke security- en privacyprofessional.
    Hugo van Aardenne en Jouko Barensen bespreken de aankomende Cyberbeveiligingswet\, gebaseerd op de Europese NIS2-richtlijn. Deze wet stelt nieuwe eisen aan digitale weerbaarheid en raakt veel organisaties\, ook buiten de traditionele vitale sectoren.




URL;VALUE=URI:
SUMMARY:Themabijeenkomst ICT-recht en Cybersecurity
DTSTART:20250515T160000Z
END:VEVENT
END:VCALENDAR