BEGIN:VCALENDAR
VERSION:2.0
PRODID:-//hacksw/handcal//NONSGML v1.0//EN
CALSCALE:GREGORIAN
BEGIN:VEVENT
DTEND:20250211T203000Z
UID:69e653be3576d
DTSTAMP:20260420T182638Z
LOCATION:Van der Valk hotel\, Winthontlaan 4\, 3526 KV UtrechtWinthontlaan 4\, 3526 KV Utrecht\, Nederland
DESCRIPTION:

Technologische ontwikkelingen blijven hard doorgaan met veel mooie innovatieve oplossingen als resultaat. Ook binnen ons mooie vakgebied worden er mooie innovaties gedaan die ook hard nodig zijn om voldoende weerstand te bieden aan de dreiging die er zijn.

Deze avond werpen we een blik op de toekomst. We maken beter kennis met het Partnership for Cybersecurity and Innovation (PCSI). We laten ons inspireren over het SOC van de toekomst\, we leren hoe we gebruik van Deepfake audio sneller kunnen ontdekken en over innovatieve manieren om OT-systemen veiliger te maken. Kortom een paar mooie actuele innovaties waar je absoluut meer van wilt weten.

URL;VALUE=URI:
SUMMARY:Themabijeenkomst Innovatie in security
DTSTART:20250211T171500Z
END:VEVENT
END:VCALENDAR