BEGIN:VCALENDAR
VERSION:2.0
PRODID:-//hacksw/handcal//NONSGML v1.0//EN
CALSCALE:GREGORIAN
BEGIN:VEVENT
DTEND:20251120T201500Z
UID:69e64ed722988
DTSTAMP:20260420T180543Z
LOCATION:Van der Valk UtrechtWinthontlaan 4\, 1e\, 2e en 20e etage\, 3526 KV Utrecht\, Nederland
DESCRIPTION:

Registreren op mijn.pvib.nl

Registratie is open

Platform voor InformatieBeveiliging heeft sinds donderdag 1 mei 2025 een nieuw verenigingsbureau. Als je lid bent van de vereniging\, dan is je reeds bestaande PvIB-account (www.pvib.nl) niet meer actief en dien je een nieuw account aan te maken op mijn.pvib.nl. Je kunt daarmee kosteloos registreren. Als je geen lid bent van PvIB\, dan kun je voor het tarief van € 60 deelnemen\; je hebt daarvoor geen PvIB-account nodig. Om je voor het ledentarief (kosteloos) in te schrijven dien je in te loggen. Als je niet ingelogd bent\, dan zijn de tarieven en inschrijfopties voor niet-leden van toepassing.



In een tijd van razendsnel evoluerende digitale dreigingen en steeds complexere IT-landschappen\, verdient het Mainframe hernieuwde aandacht. Niet als ‘Legacy IT’\, maar als een springlevend platform dat al decennialang de ruggengraat vormt van kritieke systemen wereldwijd.

• Meer dan 90% van alle wereldwijde creditcardtransacties verloopt via mainframes.
• Onmisbaar in industriële processen zoals energie\, productie en logistiek.
• Tijdens deze themabijeenkomst verkennen we de unieke security-by-design architectuur van het Mainframe:
    • Logische partities met EAL5+ certificering
    • Ingebouwde Cryptografische hardware • Onweerlegbare audittrails

Voor securityprofessionals is dit hét moment om het Mainframe te herpositioneren: niet als verleden\, maar als strategische verdediging tegen hedendaagse cyberdreigingen.

URL;VALUE=URI:
SUMMARY:Themabijeenkomst Mainframe security
DTSTART:20251120T170000Z
END:VEVENT
END:VCALENDAR