BEGIN:VCALENDAR
VERSION:2.0
PRODID:-//hacksw/handcal//NONSGML v1.0//EN
CALSCALE:GREGORIAN
BEGIN:VEVENT
DTEND:20251209T203000Z
UID:69e650881566b
DTSTAMP:20260420T181256Z
LOCATION:Van der Valk UtrechtWinthontlaan 4\, 1e\, 2e en 20e etage\, 3526 KV Utrecht\, Nederland
DESCRIPTION:Registreren op mijn.pvib.nl

Registratie is gesloten

Platform voor InformatieBeveiliging heeft sinds donderdag 1 mei 2025 een nieuw verenigingsbureau. Als je lid bent van de vereniging\, dan is je reeds bestaande PvIB-account (www.pvib.nl) niet meer actief en dien je een nieuw account aan te maken op mijn.pvib.nl. Je kunt daarmee kosteloos registreren. Als je geen lid bent van PvIB\, dan kun je voor het tarief van € 60 deelnemen\; je hebt daarvoor geen PvIB-account nodig. Om je voor het ledentarief (kosteloos) in te schrijven dien je in te loggen. Als je niet ingelogd bent\, dan zijn de tarieven en inschrijfopties voor niet-leden van toepassing.

De digitale dreigingen nemen toe en ook de afhankelijkheid van digitale voortbrengingsketens. Dit zijn redenen geweest voor de EU om de NIS2 Directive op te stellen. In Nederland is dit de CBW (Cyberbeveiligingswet). De CBW en de vernieuwde BIO2-norm hebben als doel om richting te geven aan organisaties – zowel binnen als buiten de overheid – hun informatiebeveiliging naar een hoger niveau tillen.

Tijdens deze themabijeenkomst krijg je een helder overzicht van de nieuwe wettelijke verplichtingen die op organisaties afkomen en inzicht in wat de Cyberbeveiligingswet precies betekent voor jouw sector. Je ontvangt een duidelijke toelichting op de BIO2-norm en de impact daarvan op overheden en leveranciers. Daarnaast bieden we praktische handvatten om direct te starten met risicoanalyse\, governance\, incidentrespons en ketenbeveiliging. Tot slot laten inspirerende praktijkvoorbeelden en concrete stappen zien hoe je jouw organisatie toekomstbestendig kunt maken.

URL;VALUE=URI:
SUMMARY:Themabijeenkomst NIS2
DTSTART:20251209T170000Z
END:VEVENT
END:VCALENDAR