BEGIN:VCALENDAR
VERSION:2.0
PRODID:-//hacksw/handcal//NONSGML v1.0//EN
CALSCALE:GREGORIAN
BEGIN:VEVENT
DTEND:20250918T193000Z
UID:69ece89378a55
DTSTAMP:20260425T181515Z
LOCATION:Van der Valk UtrechtWinthontlaan 4\, 3526 KV Utrecht\, Nederland
DESCRIPTION:

In 2023 en 2024 hebben we reeds twee succesvolle themabijeenkomsten georganiseerd\, die druk bezocht werden\, maar de technologie staat natuurlijk niet stil.

Er wordt volop gewerkt aan zowel technologie als adoptie. Om hier verder in te duiken zal er tijdens deze bijeenkomst stilgestaan worden bij de laatste ontwikkelingen en case studies\, maar ook gekeken worden naar hoe dit vertaald kan worden om organisaties quantumveilig te maken.

Beide sessies worden geleid door vier vooraanstaande experts\, die hun inzichten en kennis zullen delen. Verwacht een avond vol interessante\, interactieve en leerzame presentaties.

Mis deze kans niet om meer te leren over de laatste ontwikkelingen op het gebied van quantum security en om in contact te komen met professionals uit het veld.

URL;VALUE=URI:
SUMMARY:Themabijeenkomst: Quantum security
DTSTART:20250918T160000Z
END:VEVENT
END:VCALENDAR