BEGIN:VCALENDAR
VERSION:2.0
PRODID:-//hacksw/handcal//NONSGML v1.0//EN
CALSCALE:GREGORIAN
BEGIN:VEVENT
DTEND:20241112T203000Z
UID:69ed02cd862ba
DTSTAMP:20260425T200709Z
LOCATION:Van der Valk hotel\, Winthontlaan 4\, 3526 KV UtrechtWinthontlaan 4\, 3526 KV Utrecht\, Nederland
DESCRIPTION:

Na het succes van de vorige themabijeenkomst over Quantum Security in februari 2023\, zijn we verheugd om dieper in te gaan op de huidige stand van quantum security. Dit keer splitsen we de themabijeenkomst op in twee boeiende sessies:

- Post-Quantum Cryptography (PQC)
- Quantum Key Distribution (QKD)

Elke sessie wordt geleid door twee vooraanstaande experts\, die hun inzichten en kennis zullen delen. Verwacht een avond vol interessante\, interactieve en leerzame presentaties.

Mis deze kans niet om meer te leren over de laatste ontwikkelingen op het gebied van quantum security en om in contact te komen met professionals uit het veld.

URL;VALUE=URI:
SUMMARY:Themabijeenkomst Quantum Security
DTSTART:20241112T170000Z
END:VEVENT
END:VCALENDAR