BEGIN:VCALENDAR
VERSION:2.0
PRODID:-//hacksw/handcal//NONSGML v1.0//EN
CALSCALE:GREGORIAN
BEGIN:VEVENT
DTEND:20210309T160000Z
UID:69e8528e7b27b
DTSTAMP:20260422T064606Z
LOCATION:Online
DESCRIPTION:This event is about the future of cryptography. In particular\, cryptography in a post-quantum world. We have managed to welcome an expert about this topic from the UK: Dr. Pali Surdhar.

Pali has extensive experience in the hands on delivery of complex security components to global organisations in ICT and defence sectors. Currently he is at Entrust and responsible for security oversight and certification of cryptographic products that are developed by Entrust.

Pali is going to enlighten us about what we can expect in a post-quantum world. What happens with the crypto algorithms we know now and how will quantum-proof algorithms look like? How can we prepare ourselves today? Is that even possible already? There will be plenty of time for answering your questions\, so join our event and you’ll be prepped!

Sidenote: this meeting will be in English using MS Teams.

This Webinar is sponsored by Entrust













URL;VALUE=URI:
SUMMARY:The Future of Cryptography
DTSTART:20210309T150000Z
END:VEVENT
END:VCALENDAR