BEGIN:VCALENDAR
VERSION:2.0
PRODID:-//hacksw/handcal//NONSGML v1.0//EN
CALSCALE:GREGORIAN
BEGIN:VEVENT
DTEND:20220324T200000Z
UID:69e8f262cae83
DTSTAMP:20260422T180802Z
LOCATION:Van der Valk UtrechtWinthontlaan 4\, 3526 KV Utrecht\, Netherlands
DESCRIPTION:De vraag is niet of je wordt gehackt\, maar wanneer dit gebeurt. Als dit dan gebeurt\, dan wil je in ieder geval in staat zijn om de crisis adequaat te lijf te gaan.

Deze PvIB crisis workshop gaat je daarbij helpen! Wij voorzien je van de kennis en handvatten voor het opzetten van een crisismanagement organisatie\, het managen van een cybercrisis en het evalueren hiervan.

We borduren voort op het concept van de Grote PvIB Online Cyber Crisis Drill\, die op 15 september 2020 heeft plaatsgevonden. 

We simuleren een cybercrisis waarbij een ervaren crisisteam aan de slag gaat om deze te managen. Er wordt een relevant en actueel scenario geïntroduceerd.

Je wordt uitgenodigd om actief mee te doen door op stellingen te reageren. De uitslag hiervan wordt meegenomen door het crisisteam in het bestrijden van de crisis.

URL;VALUE=URI:
SUMMARY:Workshop Crisismanagement
DTSTART:20220324T164500Z
END:VEVENT
END:VCALENDAR